Workbook

Sheet Statistika
A1: druh | B1: popis | C1: kategorie | D1: (očištěna) | E1: 2012 | F1: 2013 | G1: 2014 | H1: 2015 | I1: 2016 | J1: 2017 | K1: 2018 | L1: 2019 | M1: 2020
A2: PON | B2: Přívěs za os.automobil-nákladní | C2: P | E2: 38 | F2: 49 | G2: 65 | H2: 73 | I2: 83 | J2: 87 | K2: 89 | L2: 96 | M2: 97
A3: OAD | B3: Osobní automobil-dodávka | C3: A | D3: A | E3: 3 | F3: 4 | G3: 6 | H3: 9 | I3: 13 | J3: 16 | K3: 16 | L3: 16 | M3: 18
A4: OAR | B4: Osobní automobil-sportovní | C4: A | E4: 3 | F4: 3 | G4: 3 | H4: 4 | I4: 4 | J4: 3 | K4: 3 | L4: 2 | M4: 2
A5: AB | B5: AUTOBUS | C5: A | E5: 2 | F5: 5 | G5: 5 | H5: 5 | I5: 5 | J5: 3 | K5: 3 | L5: 3 | M5: 2
A6: OAK | B6: Osobní automobil-kombi | C6: A | E6: 24 | F6: 23 | G6: 24 | H6: 28 | I6: 23 | J6: 22 | K6: 23 | L6: 22 | M6: 23
A7: NAV | B7: Nákladní automobil valníkový | C7: A | E7: 1 | F7: 2 | G7: 2 | H7: 2 | I7: 1 | J7: 1 | K7: 1 | L7: 0 | M7: 0
A8: OA | B8: OSOBNÍ AUTOMOBIL | C8: A | D8: A | E8: 2696 | F8: 3278 | G8: 3864 | H8: 4402 | I8: 4758 | J8: 5047 | K8: 5057 | L8: 5070 | M8: 5050
A9: NAP | B9: Nákladní automobil speciální | C9: A | D9: A | E9: 357 | F9: 314 | G9: 287 | H9: 266 | I9: 245 | J9: 226 | K9: 201 | L9: 191 | M9: 185
A10: PNC | B10: Přívěs za nákl.automobil-speciální | C10: P | E10: 46 | F10: 45 | G10: 45 | H10: 45 | I10: 45 | J10: 35 | K10: 31 | L10: 31 | M10: 31
A11: OAM | B11: Osobní automobil-mikrobus (nebo minibus) | C11: A | D11: A | E11: 3 | F11: 4 | G11: 7 | H11: 9 | I11: 11 | J11: 10 | K11: 10 | L11: 9 | M11: 9
A12: PNV | B12: Přívěs nákladní valníkový | C12: P | E12: 5 | F12: 5 | G12: 5 | H12: 5 | I12: 6 | J12: 7 | K12: 6 | L12: 7 | M12: 6
A13: PNJ | B13: Přívěs nákladní jednonápravový | C13: P | E13: 1 | F13: 1 | G13: 1 | H13: 1 | I13: 1 | J13: 1 | K13: 1 | L13: 1 | M13: 1
A14: NAR | B14: Nákladní automobil ADR | C14: A | E14: 3 | F14: 3 | G14: 3 | H14: 2 | I14: 0 | J14: 0 | K14: 0 | L14: 0 | M14: 0
A15: SP | B15: PRACOVNÍ STROJ PŘÍPOJNÝ | C15: P | E15: 107 | F15: 94 | G15: 89 | H15: 92 | I15: 84 | J15: 76 | K15: 67 | L15: 59 | M15: 55
A16: SAA | B16: Speciální automobil autojeřáb | C16: A | E16: 1 | F16: 1 | G16: 1 | H16: 1 | I16: 0 | J16: 0 | K16: 0 | L16: 0 | M16: 0
A17: PNP | B17: Přívěs nákladní speciální | C17: P | E17: 74 | F17: 73 | G17: 69 | H17: 69 | I17: 69 | J17: 68 | K17: 65 | L17: 65 | M17: 59
A18: VD | B18: VOZIDLO URČENÉ K DOSTAVBĚ | C18: A | D18: A | E18: 2 | F18: 3 | G18: 3 | H18: 3 | I18: 3 | J18: 4 | K18: 5 | L18: 4 | M18: 5
A19: SA | B19: SPECIÁLNÍ AUTOMOBIL | C19: A | D19: A | E19: 949 | F19: 1024 | G19: 1122 | H19: 1218 | I19: 1283 | J19: 1264 | K19: 1167 | L19: 1096 | M19: 1047
A20: PN | B20: PŘÍVĚS NÁKLADNÍ | C20: P | E20: 58 | F20: 70 | G20: 103 | H20: 155 | I20: 178 | J20: 200 | K20: 198 | L20: 191 | M20: 185
B21: nezadano | E21: 57 | F21: 56 | G21: 55 | H21: 53 | I21: 49 | J21: 47 | K21: 43 | L21: 45 | M21: 42
A22: POC | B22: Přívěs za os.automobil-speciální | C22: P | D22: P | E22: 290 | F22: 290 | G22: 296 | H22: 297 | I22: 288 | J22: 278 | K22: 265 | L22: 258 | M22: 254
A23: PTO | B23: Přívěs traktorový obytný | C23: P | E23: 23 | F23: 22 | G23: 22 | H23: 21 | I23: 21 | J23: 19 | K23: 19 | L23: 18 | M23: 17
A24: POO | B24: Přívěs za os.automobil-obytný | C24: P | D24: P | E24: 24443 | F24: 23697 | G24: 22804 | H24: 22510 | I24: 21790 | J24: 20961 | K24: 20169 | L24: 19483 | M24: 18953
A25: PNU | B25: Přívěs za nákl.automobil-skříňový | C25: P | E25: 2 | F25: 2 | G25: 2 | H25: 2 | I25: 3 | J25: 2 | K25: 2 | L25: 2 | M25: 2
A26: NAE | B26: NÁKLADNÍ AUTOMOBIL-ELEKTROMOBIL | C26: A | E26: 2 | F26: 2 | G26: 2 | H26: 2 | I26: 1 | J26: 1 | K26: 1 | L26: 1 | M26: 0
A27: SAS | B27: Speciální automobil skříňový | C27: A | E27: 380 | F27: 354 | G27: 342 | H27: 349 | I27: 331 | J27: 308 | K27: 290 | L27: 278 | M27: 266
A28: NAS | B28: Nákladní automobil skříňový | C28: A | E28: 177 | F28: 171 | G28: 164 | H28: 167 | I28: 159 | J28: 151 | K28: 144 | L28: 136 | M28: 128
A29: NS | B29: NÁVĚS SPECIÁLNÍ | C29: P | D29: P | E29: 29 | F29: 32 | G29: 34 | H29: 36 | I29: 36 | J29: 35 | K29: 31 | L29: 30 | M29: 27
A30: PS | B30: PŘÍVĚS SPECIÁLNÍ | C30: P | D30: P | E30: 4512 | F30: 5553 | G30: 6894 | H30: 8075 | I30: 8580 | J30: 8902 | K30: 8866 | L30: 8792 | M30: 8709
A31: SAJ | B31: Speciální automobil jednoúčel. (ost.SA) | C31: A | D31: A | E31: 41 | F31: 44 | G31: 42 | H31: 46 | I31: 43 | J31: 42 | K31: 40 | L31: 34 | M31: 34
A32: PO | B32: Přívěs za os.automobil | C32: P | D32: P | E32: 1070 | F32: 1066 | G32: 1103 | H32: 1183 | I32: 1203 | J32: 1235 | K32: 1214 | L32: 1202 | M32: 1175
A33: PT | B33: Přívěs traktorový | C33: P | E33: 131 | F33: 130 | G33: 129 | H33: 129 | I33: 128 | J33: 128 | K33: 126 | L33: 120 | M33: 119
A34: OV | B34: OSTATNÍ VOZIDLA | C34: A | E34: 3 | F34: 2 | G34: 3 | H34: 3 | I34: 4 | J34: 6 | K34: 8 | L34: 8 | M34: 10
A35: OAO | B35: Osobní automobil-obytný | C35: A | D35: A | E35: 2478 | F35: 2447 | G35: 2390 | H35: 2381 | I35: 2324 | J35: 2221 | K35: 2135 | L35: 2063 | M35: 2000
A36: PPN | B36: Přívěsný podvozek pro nástavby | C36: P | E36: 15 | F36: 14 | G36: 14 | H36: 14 | I36: 13 | J36: 13 | K36: 12 | L36: 11 | M36: 11
A37: PNS | B37: Přívěs za nákl.automobil-sklápěcí | C37: P | E37: 1 | F37: 0 | G37: 0 | H37: 0 | I37: 0 | J37: 0 | K37: 0 | L37: 0 | M37: 0
A38: NA | B38: NÁKLADNÍ AUTOMOBIL | C38: A | D38: A | E38: 263 | F38: 258 | G38: 278 | H38: 307 | I38: 332 | J38: 320 | K38: 311 | L38: 292 | M38: 278
A39: SAP | B39: Speciální automobil přepravník | C39: A | E39: 1 | F39: 1 | G39: 1 | H39: 1 | I39: 1 | J39: 1 | K39: 1 | L39: 1 | M39: 1
A40: M | B40: MOTOCYKL | C40: A | E40: 1 | F40: 1 | G40: 1 | H40: 1 | I40: 1 | J40: 1 | K40: 0 | L40: 0 | M40: 0
...

Sheet Boblingen
B1: 2012 | C1: 2013 | D1: 2014 | E1: 2015 | F1: 2016 | G1: 2017 | H1: 2018 | I1: 2019
A2: ČR | B2: =Statistika!E63 -> 6792 | C2: =Statistika!F63 -> 7429 | D2: =Statistika!G63 -> 8134 | E2: =Statistika!H63 -> 9158 | F2: =Statistika!I63 -> 10798 | G2: =Statistika!J63 -> 12778 | H2: =Statistika!K63 -> 14650 | I2: =Statistika!L63 -> 16511
A3: D - BÖBLINGEN | B3: 1922 | C3: 2020 | D3: 2095 | E3: 2238 | F3: 2384 | G3: 2555 | H3: 2763 | I3: 3011
A5: ČR - obyvatel | B5: 10700000
A6: D - BÖBLINGEN - obyvatel | B6: 392807
A8: ČR - meziroční změna | C8: =(C2/B2-1) -> 0.093786808 | D8: =(D2/C2-1) -> 0.094898371 | E8: =(E2/D2-1) -> 0.12589132 | F8: =(F2/E2-1) -> 0.1790784 | G8: =(G2/F2-1) -> 0.18336729 | H8: =(H2/G2-1) -> 0.1465018 | I8: =(I2/H2-1) -> 0.12703072
A9: D - meziroční změna | C9: =(C3/B3-1) -> 0.050988554 | D9: =(D3/C3-1) -> 0.037128713 | E9: =(E3/D3-1) -> 0.068257757 | F9: =(F3/E3-1) -> 0.065236819 | G9: =(G3/F3-1) -> 0.071728188 | H9: =(H3/G3-1) -> 0.081409002 | I9: =(I3/H3-1) -> 0.08975751
A11: ČR - vozů na 10.000 obyvatel | B11: =B2/$B$5*10000 -> 6.3476636 | C11: =C2/$B$5*10000 -> 6.9429907 | D11: =D2/$B$5*10000 -> 7.6018692 | E11: =E2/$B$5*10000 -> 8.5588785 | F11: =F2/$B$5*10000 -> 10.091589 | G11: =G2/$B$5*10000 -> 11.942056 | H11: =H2/$B$5*10000 -> 13.691589 | I11: =I2/$B$5*10000 -> 15.430841
A12: D - BÖBLINGEN - vozů na 10.000 obyvatel | B12: =B3/$B$6*10000 -> 48.929882 | C12: =C3/$B$6*10000 -> 51.424745 | D12: =D3/$B$6*10000 -> 53.33408 | E12: =E3/$B$6*10000 -> 56.974545 | F12: =F3/$B$6*10000 -> 60.691383 | G12: =G3/$B$6*10000 -> 65.044666 | H12: =H3/$B$6*10000 -> 70.339887 | I12: =I3/$B$6*10000 -> 76.65342

Sheet Graf - počet dle typu

Sheet Graf - meziroční změna v ks

Sheet Graf - celkový počet vozidel
