Workbook

Sheet Statistika
A1: druh | B1: popis | C1: kategorie | D1: (očištěna) | E1: 2012 | F1: 2013 | G1: 2014 | H1: 2015 | I1: 2016 | J1: 2017 | K1: 2018 | L1: 2019 | M1: 2020
A2: PON | B2: Přívěs za os.automobil-nákladní | C2: P | E2: 38 | F2: 49 | G2: 65 | H2: 73 | I2: 83 | J2: 87 | K2: 89 | L2: 96 | M2: 97
A3: OAD | B3: Osobní automobil-dodávka | C3: A | D3: A | E3: 3 | F3: 4 | G3: 6 | H3: 9 | I3: 13 | J3: 16 | K3: 16 | L3: 16 | M3: 18
A4: OAR | B4: Osobní automobil-sportovní | C4: A | E4: 3 | F4: 3 | G4: 3 | H4: 4 | I4: 4 | J4: 3 | K4: 3 | L4: 2 | M4: 2
A5: AB | B5: AUTOBUS | C5: A | E5: 2 | F5: 5 | G5: 5 | H5: 5 | I5: 5 | J5: 3 | K5: 3 | L5: 3 | M5: 2
A6: OAK | B6: Osobní automobil-kombi | C6: A | E6: 24 | F6: 23 | G6: 24 | H6: 28 | I6: 23 | J6: 22 | K6: 23 | L6: 22 | M6: 23
A7: NAV | B7: Nákladní automobil valníkový | C7: A | E7: 1 | F7: 2 | G7: 2 | H7: 2 | I7: 1 | J7: 1 | K7: 1 | L7: 0 | M7: 0
A8: OA | B8: OSOBNÍ AUTOMOBIL | C8: A | D8: A | E8: 2696 | F8: 3278 | G8: 3864 | H8: 4402 | I8: 4758 | J8: 5047 | K8: 5057 | L8: 5070 | M8: 5050
A9: NAP | B9: Nákladní automobil speciální | C9: A | D9: A | E9: 357 | F9: 314 | G9: 287 | H9: 266 | I9: 245 | J9: 226 | K9: 201 | L9: 191 | M9: 185
A10: PNC | B10: Přívěs za nákl.automobil-speciální | C10: P | E10: 46 | F10: 45 | G10: 45 | H10: 45 | I10: 45 | J10: 35 | K10: 31 | L10: 31 | M10: 31
A11: OAM | B11: Osobní automobil-mikrobus (nebo minibus) | C11: A | D11: A | E11: 3 | F11: 4 | G11: 7 | H11: 9 | I11: 11 | J11: 10 | K11: 10 | L11: 9 | M11: 9
A12: PNV | B12: Přívěs nákladní valníkový | C12: P | E12: 5 | F12: 5 | G12: 5 | H12: 5 | I12: 6 | J12: 7 | K12: 6 | L12: 7 | M12: 6
A13: PNJ | B13: Přívěs nákladní jednonápravový | C13: P | E13: 1 | F13: 1 | G13: 1 | H13: 1 | I13: 1 | J13: 1 | K13: 1 | L13: 1 | M13: 1
A14: NAR | B14: Nákladní automobil ADR | C14: A | E14: 3 | F14: 3 | G14: 3 | H14: 2 | I14: 0 | J14: 0 | K14: 0 | L14: 0 | M14: 0
A15: SP | B15: PRACOVNÍ STROJ PŘÍPOJNÝ | C15: P | E15: 107 | F15: 94 | G15: 89 | H15: 92 | I15: 84 | J15: 76 | K15: 67 | L15: 59 | M15: 55
A16: SAA | B16: Speciální automobil autojeřáb | C16: A | E16: 1 | F16: 1 | G16: 1 | H16: 1 | I16: 0 | J16: 0 | K16: 0 | L16: 0 | M16: 0
A17: PNP | B17: Přívěs nákladní speciální | C17: P | E17: 74 | F17: 73 | G17: 69 | H17: 69 | I17: 69 | J17: 68 | K17: 65 | L17: 65 | M17: 59
A18: VD | B18: VOZIDLO URČENÉ K DOSTAVBĚ | C18: A | D18: A | E18: 2 | F18: 3 | G18: 3 | H18: 3 | I18: 3 | J18: 4 | K18: 5 | L18: 4 | M18: 5
A19: SA | B19: SPECIÁLNÍ AUTOMOBIL | C19: A | D19: A | E19: 949 | F19: 1024 | G19: 1122 | H19: 1218 | I19: 1283 | J19: 1264 | K19: 1167 | L19: 1096 | M19: 1047
A20: PN | B20: PŘÍVĚS NÁKLADNÍ | C20: P | E20: 58 | F20: 70 | G20: 103 | H20: 155 | I20: 178 | J20: 200 | K20: 198 | L20: 191 | M20: 185
B21: nezadano | E21: 57 | F21: 56 | G21: 55 | H21: 53 | I21: 49 | J21: 47 | K21: 43 | L21: 45 | M21: 42
A22: POC | B22: Přívěs za os.automobil-speciální | C22: P | D22: P | E22: 290 | F22: 290 | G22: 296 | H22: 297 | I22: 288 | J22: 278 | K22: 265 | L22: 258 | M22: 254
A23: PTO | B23: Přívěs traktorový obytný | C23: P | E23: 23 | F23: 22 | G23: 22 | H23: 21 | I23: 21 | J23: 19 | K23: 19 | L23: 18 | M23: 17
A24: POO | B24: Přívěs za os.automobil-obytný | C24: P | D24: P | E24: 24443 | F24: 23697 | G24: 22804 | H24: 22510 | I24: 21790 | J24: 20961 | K24: 20169 | L24: 19483 | M24: 18953
A25: PNU | B25: Přívěs za nákl.automobil-skříňový | C25: P | E25: 2 | F25: 2 | G25: 2 | H25: 2 | I25: 3 | J25: 2 | K25: 2 | L25: 2 | M25: 2
A26: NAE | B26: NÁKLADNÍ AUTOMOBIL-ELEKTROMOBIL | C26: A | E26: 2 | F26: 2 | G26: 2 | H26: 2 | I26: 1 | J26: 1 | K26: 1 | L26: 1 | M26: 0
A27: SAS | B27: Speciální automobil skříňový | C27: A | E27: 380 | F27: 354 | G27: 342 | H27: 349 | I27: 331 | J27: 308 | K27: 290 | L27: 278 | M27: 266
A28: NAS | B28: Nákladní automobil skříňový | C28: A | E28: 177 | F28: 171 | G28: 164 | H28: 167 | I28: 159 | J28: 151 | K28: 144 | L28: 136 | M28: 128
A29: NS | B29: NÁVĚS SPECIÁLNÍ | C29: P | D29: P | E29: 29 | F29: 32 | G29: 34 | H29: 36 | I29: 36 | J29: 35 | K29: 31 | L29: 30 | M29: 27
A30: PS | B30: PŘÍVĚS SPECIÁLNÍ | C30: P | D30: P | E30: 4512 | F30: 5553 | G30: 6894 | H30: 8075 | I30: 8580 | J30: 8902 | K30: 8866 | L30: 8792 | M30: 8709
A31: SAJ | B31: Speciální automobil jednoúčel. (ost.SA) | C31: A | D31: A | E31: 41 | F31: 44 | G31: 42 | H31: 46 | I31: 43 | J31: 42 | K31: 40 | L31: 34 | M31: 34
A32: PO | B32: Přívěs za os.automobil | C32: P | D32: P | E32: 1070 | F32: 1066 | G32: 1103 | H32: 1183 | I32: 1203 | J32: 1235 | K32: 1214 | L32: 1202 | M32: 1175
A33: PT | B33: Přívěs traktorový | C33: P | E33: 131 | F33: 130 | G33: 129 | H33: 129 | I33: 128 | J33: 128 | K33: 126 | L33: 120 | M33: 119
A34: OV | B34: OSTATNÍ VOZIDLA | C34: A | E34: 3 | F34: 2 | G34: 3 | H34: 3 | I34: 4 | J34: 6 | K34: 8 | L34: 8 | M34: 10
A35: OAO | B35: Osobní automobil-obytný | C35: A | D35: A | E35: 2478 | F35: 2447 | G35: 2390 | H35: 2381 | I35: 2324 | J35: 2221 | K35: 2135 | L35: 2063 | M35: 2000
A36: PPN | B36: Přívěsný podvozek pro nástavby | C36: P | E36: 15 | F36: 14 | G36: 14 | H36: 14 | I36: 13 | J36: 13 | K36: 12 | L36: 11 | M36: 11
A37: PNS | B37: Přívěs za nákl.automobil-sklápěcí | C37: P | E37: 1 | F37: 0 | G37: 0 | H37: 0 | I37: 0 | J37: 0 | K37: 0 | L37: 0 | M37: 0
A38: NA | B38: NÁKLADNÍ AUTOMOBIL | C38: A | D38: A | E38: 263 | F38: 258 | G38: 278 | H38: 307 | I38: 332 | J38: 320 | K38: 311 | L38: 292 | M38: 278
A39: SAP | B39: Speciální automobil přepravník | C39: A | E39: 1 | F39: 1 | G39: 1 | H39: 1 | I39: 1 | J39: 1 | K39: 1 | L39: 1 | M39: 1
A40: M | B40: MOTOCYKL | C40: A | E40: 1 | F40: 1 | G40: 1 | H40: 1 | I40: 1 | J40: 1 | K40: 0 | L40: 0 | M40: 0
A41: NP | B41: Návěs nákladní speciální | C41: P | E41: 39 | F41: 38 | G41: 35 | H41: 34 | I41: 33 | J41: 26 | K41: 27 | L41: 22 | M41: 21
A42: VZU | B42: VOZIDLO ZVLÁŠTNÍHO URČENÍ | C42: A | D42: A | E42: 0 | F42: 53 | G42: 135 | H42: 517 | I42: 1786 | J42: 3622 | K42: 5488 | L42: 7264 | M42: 9177
A43: NAK | B43: Nákladní automobil sklápěcí | C43: A | E43: 0 | F43: 0 | G43: 1 | H43: 0 | I43: 0 | J43: 0 | K43: 0 | L43: 0 | M43: 0
A44: SAW | B44: Speciální automobil terénní skříňový | C44: A | E44: 0 | F44: 0 | G44: 1 | H44: 1 | I44: 1 | J44: 1 | K44: 1 | L44: 1 | M44: 1
A45: PNA | B45: NÁKLADNÍ PŘÍVĚS ADR | C45: P | E45: 0 | F45: 0 | G45: 0 | H45: 2 | I45: 2 | J45: 3 | K45: 4 | L45: 4 | M45: 4
A46: PVO | E46: 0 | F46: 0 | G46: 0 | H46: 85 | I46: 247 | J46: 501 | K46: 492 | L46: 491 | M46: 479
A47: NAG | B47: Nákladní automobil terénní | C47: A | E47: 0 | F47: 0 | G47: 0 | H47: 0 | I47: 1 | J47: 1 | K47: 1 | L47: 1 | M47: 0
A48: OSO | B48: OSOBNÍ AUTOMOBIL | C48: A | D48: A | E48: 0 | F48: 0 | G48: 0 | H48: 0 | I48: 0 | J48: 6 | K48: 183 | L48: 401 | M48: 607
A49: SPP | B49: SPECIÁLNÍ PŘÍVĚS | C49: P | D49: P | E49: 0 | F49: 0 | G49: 0 | H49: 0 | I49: 0 | J49: 4 | K49: 211 | L49: 363 | M49: 502
A50: PRV | B50: PŘÍPOJNÉ VOZIDLO | C50: P | E50: 0 | F50: 0 | G50: 0 | H50: 0 | I50: 0 | J50: 5 | K50: 250 | L50: 522 | M50: 753
A51: PRT | B51: PŘÍVĚS TRAKTOROVÝ | C51: P | E51: 0 | F51: 0 | G51: 0 | H51: 0 | I51: 0 | J51: 0 | K51: 1 | L51: 3 | M51: 3
A52: PRN | B52: NÁKLADNÍ PŘÍVĚS | C52: P | E52: 0 | F52: 0 | G52: 0 | H52: 0 | I52: 0 | J52: 0 | K52: 34 | L52: 64 | M52: 81
A53: PNN | B53: Přívěs za nákl.automobil-nákladní | C53: P | E53: 0 | F53: 0 | G53: 0 | H53: 0 | I53: 0 | J53: 0 | K53: 1 | L53: 0 | M53: 0
A54: NAU | B54: Nákladní automobil terénní sklápěcí | C54: A | E54: 0 | F54: 0 | G54: 0 | H54: 0 | I54: 0 | J54: 0 | K54: 12 | L54: 16 | M54: 23
A55: SPA | B55: SPECIÁLNÍ AUTOMOBIL | C55: A | D55: A | E55: 0 | F55: 0 | G55: 0 | H55: 0 | I55: 0 | J55: 0 | K55: 37 | L55: 70 | M55: 96
A56: NN | B56: NÁVĚS NÁKLADNÍ | C56: P | E56: 0 | F56: 0 | G56: 0 | H56: 0 | I56: 0 | J56: 0 | K56: 0 | L56: 1 | M56: 1
A57: NAN | B57: NÁKLADNÍ NÁVĚS | C57: P | E57: 0 | F57: 0 | G57: 0 | H57: 0 | I57: 0 | J57: 0 | K57: 0 | L57: 1 | M57: 1
A58: BUS | B58: AUTOBUS | C58: A | D58: A | E58: 0 | F58: 0 | G58: 0 | H58: 0 | I58: 0 | J58: 0 | K58: 0 | L58: 1 | M58: 2
B59: Celkem | E59: =SUBTOTAL(109,E2:E58) -> 38331 | F59: =SUBTOTAL(109,F2:F58) -> 39234 | G59: =SUBTOTAL(109,G2:G58) -> 40452 | H59: =SUBTOTAL(109,H2:H58) -> 42605 | I59: =SUBTOTAL(109,I2:I58) -> 44189 | J59: =SUBTOTAL(109,J2:J58) -> 45910 | K59: =SUBTOTAL(109,K2:K58) -> 47362 | L59: =SUBTOTAL(109,L2:L58) -> 48862 | M59: =SUBTOTAL(109,rv_statistics__3[2020]) -> 50552
B60: Obytný automobil | E60: =SUMIF($C$2:$C$58, "A", E2:E58) -> 7390 | F60: =SUMIF($C$2:$C$58, "A", F2:F58) -> 7997 | G60: =SUMIF($C$2:$C$58, "A", G2:G58) -> 8687 | H60: =SUMIF($C$2:$C$58, "A", H2:H58) -> 9724 | I60: =SUMIF($C$2:$C$58, "A", I2:I58) -> 11330 | J60: =SUMIF($C$2:$C$58, "A", J2:J58) -> 13277 | K60: =SUMIF($C$2:$C$58, "A", K2:K58) -> 15138 | L60: =SUMIF($C$2:$C$58, "A", L2:L58) -> 16980 | M60: =SUMIF($C$2:$C$58, "A", M2:M58) -> 18964
B61: Obytný přívěs | E61: =SUMIF($C$2:$C$58, "P", E2:E58) -> 30884 | F61: =SUMIF($C$2:$C$58, "P", F2:F58) -> 31181 | G61: =SUMIF($C$2:$C$58, "P", G2:G58) -> 31710 | H61: =SUMIF($C$2:$C$58, "P", H2:H58) -> 32743 | I61: =SUMIF($C$2:$C$58, "P", I2:I58) -> 32563 | J61: =SUMIF($C$2:$C$58, "P", J2:J58) -> 32085 | K61: =SUMIF($C$2:$C$58, "P", K2:K58) -> 31689 | L61: =SUMIF($C$2:$C$58, "P", L2:L58) -> 31346 | M61: =SUMIF($C$2:$C$58, "P", M2:M58) -> 31067
B62: Nezařazeno | E62: =SUMIF($C$2:$C$58, "", E2:E58) -> 57 | F62: =SUMIF($C$2:$C$58, "", F2:F58) -> 56 | G62: =SUMIF($C$2:$C$58, "", G2:G58) -> 55 | H62: =SUMIF($C$2:$C$58, "", H2:H58) -> 138 | I62: =SUMIF($C$2:$C$58, "", I2:I58) -> 296 | J62: =SUMIF($C$2:$C$58, "", J2:J58) -> 548 | K62: =SUMIF($C$2:$C$58, "", K2:K58) -> 535 | L62: =SUMIF($C$2:$C$58, "", L2:L58) -> 536 | M62: =SUMIF($C$2:$C$58, "", M2:M58) -> 521
B63: Obytný automobil (očištěno) | E63: =SUMIF($D$2:$D$58, "A", E2:E58) -> 6792 | F63: =SUMIF($D$2:$D$58, "A", F2:F58) -> 7429 | G63: =SUMIF($D$2:$D$58, "A", G2:G58) -> 8134 | H63: =SUMIF($D$2:$D$58, "A", H2:H58) -> 9158 | I63: =SUMIF($D$2:$D$58, "A", I2:I58) -> 10798 | J63: =SUMIF($D$2:$D$58, "A", J2:J58) -> 12778 | K63: =SUMIF($D$2:$D$58, "A", K2:K58) -> 14650 | L63: =SUMIF($D$2:$D$58, "A", L2:L58) -> 16511 | M63: =SUMIF($D$2:$D$58, "A", M2:M58) -> 18508
B64: Obytný přívěs (očištěno) | E64: =SUMIF($D$2:$D$58, "P", E2:E58) -> 30344 | F64: =SUMIF($D$2:$D$58, "P", F2:F58) -> 30638 | G64: =SUMIF($D$2:$D$58, "P", G2:G58) -> 31131 | H64: =SUMIF($D$2:$D$58, "P", H2:H58) -> 32101 | I64: =SUMIF($D$2:$D$58, "P", I2:I58) -> 31897 | J64: =SUMIF($D$2:$D$58, "P", J2:J58) -> 31415 | K64: =SUMIF($D$2:$D$58, "P", K2:K58) -> 30756 | L64: =SUMIF($D$2:$D$58, "P", L2:L58) -> 30128 | M64: =SUMIF($D$2:$D$58, "P", M2:M58) -> 29620
B65: Nezařazeno (očistěno) | E65: =SUMIF($D$2:$D$58, "", E2:E58) -> 1195 | F65: =SUMIF($D$2:$D$58, "", F2:F58) -> 1167 | G65: =SUMIF($D$2:$D$58, "", G2:G58) -> 1187 | H65: =SUMIF($D$2:$D$58, "", H2:H58) -> 1346 | I65: =SUMIF($D$2:$D$58, "", I2:I58) -> 1494 | J65: =SUMIF($D$2:$D$58, "", J2:J58) -> 1717 | K65: =SUMIF($D$2:$D$58, "", K2:K58) -> 1956 | L65: =SUMIF($D$2:$D$58, "", L2:L58) -> 2223 | M65: =SUMIF($D$2:$D$58, "", M2:M58) -> 2424
B67: Meziroční změna v % | F67: =((F63+F64)/(E63+E64) - 1) -> 0.025070013 | G67: =((G63+G64)/(F63+F64) - 1) -> 0.031470828 | H67: =((H63+H64)/(G63+G64) - 1) -> 0.05078314 | I67: =((I63+I64)/(H63+H64) - 1) -> 0.034804527 | J67: =((J63+J64)/(I63+I64) - 1) -> 0.035086076 | K67: =((K63+K64)/(J63+J64) - 1) -> 0.027447786 | L67: =((L63+L64)/(K63+K64) - 1) -> 0.027155002 | M67: =((M63+M64)/(L63+L64) - 1) -> 0.03192607
B68: Obytný automobil - meziroční změna v % | F68: =(F63/E63 - 1) -> 0.093786808 | G68: =(G63/F63 - 1) -> 0.094898371 | H68: =(H63/G63 - 1) -> 0.12589132 | I68: =(I63/H63 - 1) -> 0.1790784 | J68: =(J63/I63 - 1) -> 0.18336729 | K68: =(K63/J63 - 1) -> 0.1465018 | L68: =(L63/K63 - 1) -> 0.12703072 | M68: =(M63/L63 - 1) -> 0.12094967
B69: Obytný přívěs- meziroční změna v % | F69: =(F64/E64 - 1) -> 0.0096889006 | G69: =(G64/F64 - 1) -> 0.016091129 | H69: =(H64/G64 - 1) -> 0.031158652 | I69: =(I64/H64 - 1) -> -0.0063549422 | J69: =(J64/I64 - 1) -> -0.015111139 | K69: =(K64/J64 - 1) -> -0.02097724 | L69: =(L64/K64 - 1) -> -0.02041878 | M69: =(M64/L64 - 1) -> -0.016861391
B71: Obytný automobil - změna v daném roce v ks | F71: =F63-E63 -> 637 | G71: =G63-F63 -> 705 | H71: =H63-G63 -> 1024 | I71: =I63-H63 -> 1640 | J71: =J63-I63 -> 1980 | K71: =K63-J63 -> 1872 | L71: =L63-K63 -> 1861 | M71: =M63-L63 -> 1997
B72: Obytný přívěs - změna v daném roce v ks | F72: =F64-E64 -> 294 | G72: =G64-F64 -> 493 | H72: =H64-G64 -> 970 | I72: =I64-H64 -> -204 | J72: =J64-I64 -> -482 | K72: =K64-J64 -> -659 | L72: =L64-K64 -> -628 | M72: =M64-L64 -> -508
B74: Německo -nové registrace za rok (zdroj https://www.civd.de) | J74: 40568 | K74: 46859 | L74: 53922 | M74: 78055
B76: Německo | C76: 83
B77: Česká republika | C77: 10.7
B78: Polsko | C78: 38 | J78: =ROUNDDOWN(($C$77/$C$76)*J74,0) -> 5229 | K78: =ROUNDDOWN(($C$77/$C$76)*K74,0) -> 6040 | L78: =ROUNDDOWN(($C$77/$C$76)*L74,0) -> 6951 | M78: =ROUNDDOWN(($C$77/$C$76)*M74,0) -> 10062

Sheet Boblingen
B1: 2012 | C1: 2013 | D1: 2014 | E1: 2015 | F1: 2016 | G1: 2017 | H1: 2018 | I1: 2019
A2: ČR | B2: =Statistika!E63 -> 6792 | C2: =Statistika!F63 -> 7429 | D2: =Statistika!G63 -> 8134 | E2: =Statistika!H63 -> 9158 | F2: =Statistika!I63 -> 10798 | G2: =Statistika!J63 -> 12778 | H2: =Statistika!K63 -> 14650 | I2: =Statistika!L63 -> 16511
A3: D - BÖBLINGEN | B3: 1922 | C3: 2020 | D3: 2095 | E3: 2238 | F3: 2384 | G3: 2555 | H3: 2763 | I3: 3011
A5: ČR - obyvatel | B5: 10700000
A6: D - BÖBLINGEN - obyvatel | B6: 392807
A8: ČR - meziroční změna | C8: =(C2/B2-1) -> 0.093786808 | D8: =(D2/C2-1) -> 0.094898371 | E8: =(E2/D2-1) -> 0.12589132 | F8: =(F2/E2-1) -> 0.1790784 | G8: =(G2/F2-1) -> 0.18336729 | H8: =(H2/G2-1) -> 0.1465018 | I8: =(I2/H2-1) -> 0.12703072
A9: D - meziroční změna | C9: =(C3/B3-1) -> 0.050988554 | D9: =(D3/C3-1) -> 0.037128713 | E9: =(E3/D3-1) -> 0.068257757 | F9: =(F3/E3-1) -> 0.065236819 | G9: =(G3/F3-1) -> 0.071728188 | H9: =(H3/G3-1) -> 0.081409002 | I9: =(I3/H3-1) -> 0.08975751
A11: ČR - vozů na 10.000 obyvatel | B11: =B2/$B$5*10000 -> 6.3476636 | C11: =C2/$B$5*10000 -> 6.9429907 | D11: =D2/$B$5*10000 -> 7.6018692 | E11: =E2/$B$5*10000 -> 8.5588785 | F11: =F2/$B$5*10000 -> 10.091589 | G11: =G2/$B$5*10000 -> 11.942056 | H11: =H2/$B$5*10000 -> 13.691589 | I11: =I2/$B$5*10000 -> 15.430841
A12: D - BÖBLINGEN - vozů na 10.000 obyvatel | B12: =B3/$B$6*10000 -> 48.929882 | C12: =C3/$B$6*10000 -> 51.424745 | D12: =D3/$B$6*10000 -> 53.33408 | E12: =E3/$B$6*10000 -> 56.974545 | F12: =F3/$B$6*10000 -> 60.691383 | G12: =G3/$B$6*10000 -> 65.044666 | H12: =H3/$B$6*10000 -> 70.339887 | I12: =I3/$B$6*10000 -> 76.65342

Sheet Graf - počet dle typu

Sheet Graf - meziroční změna v ks

Sheet Graf - celkový počet vozidel
